BEGIN:VCALENDAR
VERSION:2.0
PRODID:-//Tukios.com/
BEGIN:VEVENT
UID:8a3c1beb-f84b-4479-8271-b988f4df52c0@www.ahearnfuneralhome.com
DTSTAMP:20260419T215126Z
DTSTART:20260424T173000Z
DTEND:20260424T174500Z
SUMMARY:Burial
DESCRIPTION:
URL:https://www.ahearnfuneralhome.com/obituaries/patricia-ciesla
LOCATION:St. Michael's Cemetery 1601 State St  Springfield MA 01109
GEO:42.1144874;-72.5408782
END:VEVENT
END:VCALENDAR