BEGIN:VCALENDAR
VERSION:2.0
PRODID:-//Tukios.com/
BEGIN:VEVENT
UID:0571c423-eee1-46c1-b926-e70bd2ecf8e4@www.ahearnfuneralhome.com
DTSTAMP:20260419T215001Z
DTSTART:20260424T143000Z
DTEND:20260424T150000Z
SUMMARY:Funeral Service
DESCRIPTION:
URL:https://www.ahearnfuneralhome.com/obituaries/patricia-ciesla
LOCATION: 783 Bridge Rd  Northampton MA 01060
GEO:42.3377061;-72.6438052
END:VEVENT
END:VCALENDAR