BEGIN:VCALENDAR
VERSION:2.0
PRODID:-//Tukios.com/
BEGIN:VEVENT
UID:8d5c3a05-145e-49a1-b5d0-d627365555a8@www.ahearnfuneralhome.com
DTSTAMP:20260419T214546Z
DTSTART:20260424T123000Z
DTEND:20260424T143000Z
SUMMARY:Visitation
DESCRIPTION:
URL:https://www.ahearnfuneralhome.com/obituaries/patricia-ciesla
LOCATION: 783 Bridge Rd  Northampton MA 01060
GEO:42.3377061;-72.6438052
END:VEVENT
END:VCALENDAR